BEGIN:VCALENDAR
VERSION:2.0
PRODID:-//EWA - Akademija ženskog preduzetništva - ECPv6.15.20//NONSGML v1.0//EN
CALSCALE:GREGORIAN
METHOD:PUBLISH
X-WR-CALNAME:EWA - Akademija ženskog preduzetništva
X-ORIGINAL-URL:https://ewa.org.rs
X-WR-CALDESC:Events for EWA - Akademija ženskog preduzetništva
REFRESH-INTERVAL;VALUE=DURATION:PT1H
X-Robots-Tag:noindex
X-PUBLISHED-TTL:PT1H
BEGIN:VTIMEZONE
TZID:Europe/Belgrade
BEGIN:DAYLIGHT
TZOFFSETFROM:+0100
TZOFFSETTO:+0200
TZNAME:CEST
DTSTART:20180325T010000
END:DAYLIGHT
BEGIN:STANDARD
TZOFFSETFROM:+0200
TZOFFSETTO:+0100
TZNAME:CET
DTSTART:20181028T010000
END:STANDARD
BEGIN:DAYLIGHT
TZOFFSETFROM:+0100
TZOFFSETTO:+0200
TZNAME:CEST
DTSTART:20190331T010000
END:DAYLIGHT
BEGIN:STANDARD
TZOFFSETFROM:+0200
TZOFFSETTO:+0100
TZNAME:CET
DTSTART:20191027T010000
END:STANDARD
BEGIN:DAYLIGHT
TZOFFSETFROM:+0100
TZOFFSETTO:+0200
TZNAME:CEST
DTSTART:20200329T010000
END:DAYLIGHT
BEGIN:STANDARD
TZOFFSETFROM:+0200
TZOFFSETTO:+0100
TZNAME:CET
DTSTART:20201025T010000
END:STANDARD
BEGIN:DAYLIGHT
TZOFFSETFROM:+0100
TZOFFSETTO:+0200
TZNAME:CEST
DTSTART:20210328T010000
END:DAYLIGHT
BEGIN:STANDARD
TZOFFSETFROM:+0200
TZOFFSETTO:+0100
TZNAME:CET
DTSTART:20211031T010000
END:STANDARD
BEGIN:DAYLIGHT
TZOFFSETFROM:+0100
TZOFFSETTO:+0200
TZNAME:CEST
DTSTART:20220327T010000
END:DAYLIGHT
BEGIN:STANDARD
TZOFFSETFROM:+0200
TZOFFSETTO:+0100
TZNAME:CET
DTSTART:20221030T010000
END:STANDARD
BEGIN:DAYLIGHT
TZOFFSETFROM:+0100
TZOFFSETTO:+0200
TZNAME:CEST
DTSTART:20230326T010000
END:DAYLIGHT
BEGIN:STANDARD
TZOFFSETFROM:+0200
TZOFFSETTO:+0100
TZNAME:CET
DTSTART:20231029T010000
END:STANDARD
BEGIN:DAYLIGHT
TZOFFSETFROM:+0100
TZOFFSETTO:+0200
TZNAME:CEST
DTSTART:20240331T010000
END:DAYLIGHT
BEGIN:STANDARD
TZOFFSETFROM:+0200
TZOFFSETTO:+0100
TZNAME:CET
DTSTART:20241027T010000
END:STANDARD
BEGIN:DAYLIGHT
TZOFFSETFROM:+0100
TZOFFSETTO:+0200
TZNAME:CEST
DTSTART:20250330T010000
END:DAYLIGHT
BEGIN:STANDARD
TZOFFSETFROM:+0200
TZOFFSETTO:+0100
TZNAME:CET
DTSTART:20251026T010000
END:STANDARD
BEGIN:DAYLIGHT
TZOFFSETFROM:+0100
TZOFFSETTO:+0200
TZNAME:CEST
DTSTART:20260329T010000
END:DAYLIGHT
BEGIN:STANDARD
TZOFFSETFROM:+0200
TZOFFSETTO:+0100
TZNAME:CET
DTSTART:20261025T010000
END:STANDARD
END:VTIMEZONE
BEGIN:VEVENT
DTSTART;VALUE=DATE:20251126
DTEND;VALUE=DATE:20251127
DTSTAMP:20260421T100202
CREATED:20251210T213800Z
LAST-MODIFIED:20251210T214755Z
UID:33621-1764115200-1764201599@ewa.org.rs
SUMMARY:EWA Demo Day 2025 – Najvažniji Trenuci i Rezultati
DESCRIPTION:Podržavamo inovacije\, hrabrost i snagu ženskog preduzetništva u agrifood sektoru. \n  \nInspiracija koja pokreće promene \n  \nEWA Demo Day 2025 održan je 26. novembra u Novom Sadu i okupio je deset izuzetnih preduzetnica koje su tokom šest meseci gradile svoje poslovanje kroz program Empowering \nWomen in Agrifood (EWA). \nDogađaj je obeležio zajednički rast\, inovacije i predstavljanje rešenja koja unapređuju agrifood industriju. \n  \nKoje aktivnosti su dovele do Demo Day-a? \nTokom šest meseci programa\, učesnice su prolazile kroz strukturirani proces koji je kulminirao javnim predstavljanjem na Demo Day-u: \n\n36 sati individualnog mentorstva uz eksperte iz različitih oblasti\n15 online edukativnih sesija o marketingu\, finansijama\, razvoju proizvoda i IP zaštiti\nMasterclass radionica fokusirana na prezentacione veštine\nRad na biznis modelu i vrednosnoj ponudi\nPriprema i usavršavanje pitch deck-a kroz interaktivne konsultacije i evaluaciju\n\n  \nZahvaljujući ovim aktivnostima\, učesnice su na Demo Day stigle pripremljene\, osnažene i spremne da predstave svoje inovacije pred stručnjacima i investicionom zajednicom. \n  \nMotivacioni Govor \nPre nego što su naše mentee započele svoje pitch prezentacije\, prisutnima se obratila Milana Latković (Colloco)\, deleći inspirativnu priču o važnosti očuvanja mentalnog zdravlja tokom preduzetničkog puta i o tome „kako ne izgubiti dušu u procesu“. Njen govor uneo je autentičnu energiju u prostor i ohrabrio učesnice da podjednako neguju sebe i svoj biznis. \n \n  \nPitch Prezentacije Učesnica \nDeset žena preduzetnica predstavilo je svoja inovativna rešenja iz oblasti: \n\nagritech tehnologija\nodržive i organske proizvodnje\ndigitalnih agrifood alata\nzdravlja i ishrane\nregenerativne poljoprivrede\n\n  \nSvaka od njih imala je samo četiri minuta da prikaže svoj biznis\, jasno predstavi vrednost svoje ideje i ubedi članove komisije da baš njihov projekat zaslužuje podršku i dalji razvoj. \nSlike – pasulj\, weed\, sokovi \n  \n🏆 Nagrađeni Projekti \n  \n🥇 1. mesto — Bayana Food \nVeganska\, bezglutenska\, potpuno hipoalergena hrana namenjena osobama sa specifičnim zdravstvenim potrebama.\nOsnivačica: Jana Jovanka Ninković \n \n  \n\n mesto — Tisalytics Bio\n\nAI softver za ranu detekciju i predikciju štetnih cvetanja algi i cijanobakterija.\nOsnivačica: Jelisaveta Ilić \n \n  \nMentori\, Govornici i Stručnjaci \nProgram su podržali eksperti iz oblasti: \n\nmarketinga i brendiranja\nfinansija i investicija\nrazvoja proizvoda\nintelektualne svojine\nkomunikacija\ninovacija u agrifood sektoru\n\nNjihova ekspertiza pomogla je učesnicama da razviju održive biznis modele i unaprede svoje projekte. \n  \n Komisija za Evaluaciju \nDemo Day je ocenila stručna komisija sastavljena od predstavnika finansijskog\, inovacionog i startap ekosistema: \n\nMarijana Maksimović – Garancijski fond AP Vojvodine\nVladimir Nikić – Market Fit NS\nBiljana Viduka – Institut ekonomskih nauka / Mozaik Hub\n\n  \nČlanovi komisije su ocenjivali na osnovu kriterijumama su obuhvatili inovativnost\, tržišni potencijal i društveni uticaj prezentovanih rešenja. \n  \n \n  \n✨ Utisci Učesnica \n„Sada znam kako da zaštitim ono što stvaram!“\n„Kalkulacija cena mi je otvorila oči — sada znam koliko moj proizvod treba da košta.“\n„Napokon razumem kako da kreiram biznis plan koji ima smisla.“ \n \n 
URL:https://ewa.org.rs/event/ewa-demo-day-2025-najvazniji-trenuci-i-rezultati/
ATTACH;FMTTYPE=image/jpeg:https://ewa.org.rs/wp-content/uploads/2025/12/demoday1.jpeg
END:VEVENT
BEGIN:VEVENT
DTSTART;VALUE=DATE:20251016
DTEND;VALUE=DATE:20251017
DTSTAMP:20260421T100202
CREATED:20251023T210310Z
LAST-MODIFIED:20251026T193058Z
UID:33521-1760572800-1760659199@ewa.org.rs
SUMMARY:EWA Masterclass 2025 – Osnaživanje žena u agroprehrambenom sektoru
DESCRIPTION:16. oktobra 2025. u hotelu Novi Sad održan je EWA Masterclass 2025\, posvećen preduzetnicama iz agrifood sektora. Događaj je okupio učesnice EWA programa i stručnjakinje koje su delile znanja o pametnom finansiranju startapai razvoju pitching veština za uspešno predstavljanje investitorima. \n  \n💡 EWA Masterclass – povezivanje znanja i prakse\nKroz predavanja i radionice\, učesnice su usvajale praktična znanja o finansiranju\, inovacijama\, komunikaciji i investicionim prilikama\, dok su se istovremeno pripremale za završni Demo Day i regionalni događaj Next Bite Warsaw 2025. Masterclass je bio prilika za povezivanje sa mentorima\, konsultantima\, preduzetnicima i preduzetnicama – stvarajući mrežu podrške i inspiracije za dalji rast njihovih biznisa. \n\n🌿 EWA Masterclass 2025\n  \nPredavači i iskustva učesnica\n  \nTokom EWA Masterclass 2025 programa\, učesnice su imale priliku da kroz interaktivna predavanja\, praktične radionice i mentorski rad sarađuju sa iskusnim stručnjacima iz oblasti finansija\, preduzetništva i komunikacija.\nMasterclass je pružio prostor za razmenu znanja\, razvijanje veština i pripremu za završni Demo Day – trenutak kada svaka ideja zasija. \n\n🧭  Biljana Viduka\nInstitut ekonomskih nauka\, Beograd\nTema: Pametno finansiranje agrifood startapa – od ideje do investitora \nDr Viduka je otvorila vrata sveta finansiranja – od nacionalnih i pokrajinskih fondova do evropskih programa kao što su EIT Food i IPARD III.\nUčesnice su naučile kako da: \n\nprepoznaju adekvatne izvore finansiranja\,\npripreme jasan investicioni plan\,\nrazumeju šta investitori zaista traže.\n\n🔹 „Da biste dobile investiciju\, morate razumeti šta investitori hoće – i to im jasno pokazati.“ \n\n🎤 Valentina Mladenović\nStručnjakinja za komunikaciju i javni nastup\nTema: Pitching – osnove\, struktura i praksa \nKroz dinamičnu radionicu\, Valentina je učesnice uvela u svet pitch prezentacija i pripreme za javni nastup.\nKroz vežbe su savladale: \n\nkako da osmisle i predstave svoj pitch deck\,\nkako da kontrolišu tremu\,\nkako da koriste govor tela i glas za veći uticaj.\n\n🔹 „Pitch mora biti jasan kao da ga objašnjavate detetu od 10 godina.“ \nUčesnice su naučile da svaka prezentacija mora biti jednostavna\, ubedljiva i prilagođena publici — jer „publika mora odmah razumeti šta vi zapravo prodajete“. \n\n💬 Mentorski rad i feedback\nTokom masterklasa\, mentees su imale priliku da svoje pitch deckove predstave mentorima i ekspertima i dobiju individualni feedback za pripremu za Demo Day.\nKomentari i preporuke mentora bili su praktični i inspirativni: \n„Budite samouverene – prvo ubedite sebe da imate najbolji proizvod\, tek onda ćete ubediti kupca.“\n„Vežbajte da se oslobodite treme i uvek mislite na kupca.“\n„Izbegavajte opšte izraze poput zdravo – recite konkretno: ‘manje konzervansa’\, ‘prirodni sastojci’.“ \nMentori su istakli koliko su učesnice napredovale od matchmaking faze do danas – njihove prezentacije su sada logičnije\, fokusiranije i profesionalnije.\nIpak\, podsećanje je bilo jasno: \n„U četiri minuta nije lako ispričati priču o biznisu – zato brojke\, konkretni podaci i jasan fokus čine razliku.“ \nTakođe\, poseban naglasak stavljen je na zaštitu ideja i izgradnju sistema koji čuva preduzetnice u poslovanju. \n„Važno je da vaš sistem radi za vas\, a ne protiv vas.“ \nZaključak mentora bio je jedinstven:\n🔹 „Svi ste napredovali – ključno je da ostanete autentične\, jednostavne i sigurne u ono što radite.“ \n  \n\n🌾 Snaga zajednice\nKroz predavanja\, radionice i konsultacije\, učesnice su izgradile mrežu podrške\, razmenile iskustva i razvile nove biznis ideje. \nEWA Masterclass 2025 je više od edukacije – to je zajednica žena koje veruju u svoj potencijal i u budućnost agroprehrambenog sektora. \n\n			\n				\n			\n			\n				\n			\n			\n				\n			\n			\n				\n			\n			\n				\n			\n			\n				\n			\n			\n				\n			\n			\n				\n			\n			\n				\n			\n		\n\n 
URL:https://ewa.org.rs/event/ewa-masterclass-2025-osnazivanje-zena-u-agroprehrambenom-sektoru/
LOCATION:Hotel Novi Sad\, Novi Sad
ATTACH;FMTTYPE=image/jpeg:https://ewa.org.rs/wp-content/uploads/2025/10/NIK_4229.jpg
END:VEVENT
BEGIN:VEVENT
DTSTART;VALUE=DATE:20250619
DTEND;VALUE=DATE:20250620
DTSTAMP:20260421T100202
CREATED:20250619T192607Z
LAST-MODIFIED:20251211T203127Z
UID:33650-1750291200-1750377599@ewa.org.rs
SUMMARY:EWA Matchmaking 2025 – Spoj mentorki i preduzetnica koje menjaju agro-prehrambeni sektor
DESCRIPTION:EWA Matchmaking 2025 održan je 19. juna 2025. godine u Novom Sadu i okupio je deset perspektivnih preduzetnica iz oblasti agrifooda i deset iskusnih mentorki. Događaj\, organizovan od strane Akademije ženskog preduzetništva u okviru EWA programa u saradnji sa EIT Food\, predstavljao je početak šestomesečnog mentorskog puta koji će učesnicama pružiti znanje\, podršku i mrežu neophodnu za rast. \nCilj matchmakinga bio je jednostavan i jasan: povezati prave mentorke sa pravim preduzetnicama\, na osnovu usklađenosti poslovnih potreba\, razvojnih ciljeva i ekspertskih profila. \n  \nDomaćin događaja bio je Hotel Novi Sad\, gde je kroz strukturiran proces uspostavljeno deset mentorskih parova. Matchmaking metodologija zasnivala se na detaljnoj analizi potreba preduzetnica i kompetencija mentorki\, u skladu sa misijom EWA programa da unapredi ne samo poslovne rezultate\, već i otpornost zajednice i dugoročan razvoj. \n  \nGlavne tačke događaja uključile su: \n\nUvodno obraćanje Jane Hudecove\, projekt menadžerke Akademije ženskog preduzetništva\, uz predstavljanje programa EWA 2025 – Srbija.\nPredavanje Jelene Džankić iz Zavoda za intelektualnu svojinu na temu Od ideje do brenda\, o značaju zaštite inovacija u ranim fazama razvoja.\nPrezentacije svih 10 preduzetnica\, kroz četvorominutne pčele prezentacije svojih inovacija u agrifood sektoru.\nKratke prezentacije 10 mentorki\, nakon čega je usledila sesija individualnih upoznavanja i formiranje mentorskih parova.\n\n \n  \nKo su učesnice i njihove inovacije\nProgram je okupio raznovrsne projekte – od pametne poljoprivrede i održive proizvodnje hrane do digitalnih rešenja i funkcionalne ishrane. Među istaknutim idejama su: \n  \n\nAlena Tarnoci – FarmWise: hibridna porodična farma sa vertikalnim akvaponskim sistemom za celogodišnju održivu proizvodnju.\nJelisaveta Ilić – RelyOnMi: AI alat za rano otkrivanje biotičkog stresa u usevima radi smanjenja upotrebe hemikalija.\nDanijela Ratkov Žebeljan: biljni\, fermentisani sir od belog pasulja\, bez alergena i bogat nutritivnim vrednostima.\nJelena Topalović: razvoj prirodnih proizvoda od autohtone sorte višnje\, bez hemikalija\, uz očuvanje biodiverziteta.\nJelena Miletić: hladno ceđeni sokovi proizvedeni uz solarne tehnologije\, staklenu ambalažu i cirkularne procese.\nKristina Žilović – Healthy Plate: digitalna platforma za zdrave verzije tradicionalnih balkanskih jela.\nJovanka Jana Ninković – BAYANA: linija veganskih\, bezglutenskih proizvoda namenjenih osobama sa intolerancijama i autoimunim bolestima.\nTanja Krunić: probiotska brašna dobijena preradom nusproizvoda industrije hladno ceđenog ulja\, usmerena ka cirkularnoj ekonomiji.\nJelena Stevanović – Earth in Women’s Hands: ženska zadruga i edukativna farma fokusirana na prirodnu proizvodnju i obuke iz održive poljoprivrede.\nDragana Božić – WeedToolBox: digitalni savetnik za održivo i efikasno upravljanje korovom.\n\n  \n  \n19 \nMentorke – stručnjakinje koje vode ka rastu\nNa događaju je učestvovalo deset mentorki iz različitih industrija\, uključujući inženjerstvo\, organsku proizvodnju\, finansije\, pravo\, digitalni marketing\, kontrolu kvaliteta hrane i HR. Njihova ekspertiza pokriva kritične oblasti rasta startapa: razvoj proizvoda\, brendiranje\, skaliranje proizvodnje\, ulazak na tržište\, pravnu validaciju i finansijsko upravljanje. \n  \n \n \n 
URL:https://ewa.org.rs/event/ewa-matchmaking-2025-spoj-mentorki-i-preduzetnica-koje-menjaju-agro-prehrambeni-sektor/
ATTACH;FMTTYPE=image/jpeg:https://ewa.org.rs/wp-content/uploads/2025/12/EWA-Matchmaking-2025-1.jpeg
END:VEVENT
BEGIN:VEVENT
DTSTART;TZID=Europe/Belgrade:20190618T170000
DTEND;TZID=Europe/Belgrade:20190618T180000
DTSTAMP:20260421T100202
CREATED:20250214T212624Z
LAST-MODIFIED:20250214T212624Z
UID:32945-1560877200-1560880800@ewa.org.rs
SUMMARY:Srećni roditelji = srećna deca
DESCRIPTION:Roditellji žele da imaju inteligentnu decu. Medjutim\, da li su spremni da promene pristup u vaspitavanju svoje dece? \n\n\n \n\n\nOvaj put će evropski poznati stručnjak u oblasti intelektualnog razvoja dece dr RANKO RAJOVIĆ održati seminar za roditelje\, buduće roditelje i sve zainteresovane za temu izazova današnje generacije dečaka i devojčica. \n\n\n \n\n\nU duhu bliži vama i van velikih gradova\, seminar će se održati u Bačkom Petrovcu\, sledeći utorak 18. juna 2019. u prostorijama Poslovnog i inovativnog centra\, M. Tita 20 sa početkom u 17h. \n\n\n \n\n\nSeminar sadrži sledeće teme: \n\n\n– Uvod u neurofiziologiju razvoja mozga\n\n\n– Greške roditelja\n\n\n– Značaj rane stimulacije\n\n\n– Razvoj matematičko-logičkog mišljenja\n\n\n– Radionica I (Sakrivanje reči u rečenici)\n\n\n– Radionica II (Nelogične priče)\n\n\n– Radionica III (Pesmice)\n\n\n – NTC tabela\n\n\n \n\n\nSeminar će trajati od 17:00 do 20:15 i raspored je sledeći: \n\n\n17:00 – 18:30 I blok\n\n\n18:30 – 18:45 pauza\n\n\n18:45 – 20:15 II blok\n\n\n \n\n\nCena seminara po osobi je 2.400\,00 din. Ali pažnja! Za dve osobe iz iste porodice cena seminara iznosi 4.000\,00 dinara. \n\n\nKotizacija za seminar uplaćuje se na: Akademija ženskog preduzetništva (ugovorni partner NTC centra) br. računa: 160-258904-43\n\n\n \n\n\nRezervišite svoje mesto već danas putem mejla: ntcbackipetrovac@gmail.com ili na office@ewa.org.rs\n\n\n \n\n\nIskoristite priliku da učite od najboljih!
URL:https://ewa.org.rs/event/srecni-roditelji-srecna-deca/
LOCATION:Poslovni i inovativni centar Bački Petrovac
ATTACH;FMTTYPE=image/jpeg:https://ewa.org.rs/wp-content/uploads/2025/02/happy-3046564_1920-300x300-1.jpg
END:VEVENT
BEGIN:VEVENT
DTSTART;TZID=Europe/Belgrade:20190606T170000
DTEND;TZID=Europe/Belgrade:20190606T180000
DTSTAMP:20260421T100202
CREATED:20250214T212228Z
LAST-MODIFIED:20250214T212302Z
UID:32942-1559840400-1559844000@ewa.org.rs
SUMMARY:3D - stvarno realno
DESCRIPTION:3D kompjuterska grafika\, modeliranje\, štampanje\, projekcija\, renderovanje\, skeniranje\, televizija\, video igre\, stereoskopija …. Zavirimo u realni 3D svet. …Unity\, Blender – alat koji se koristi za kreiranje animiranih filmova\, vizuelnih efekata\, 3D modela\, interaktivnih 3D aplikacija i video igara…
URL:https://ewa.org.rs/event/3d-stvarno-realno/
LOCATION:Poslovni i inovativni centar Bački Petrovac
ATTACH;FMTTYPE=image/jpeg:https://ewa.org.rs/wp-content/uploads/2025/02/apple-1302430_1280-300x300-1.jpg
END:VEVENT
BEGIN:VEVENT
DTSTART;TZID=Europe/Belgrade:20190523T170000
DTEND;TZID=Europe/Belgrade:20190523T180000
DTSTAMP:20260421T100202
CREATED:20250214T212125Z
LAST-MODIFIED:20250214T212415Z
UID:32939-1558630800-1558634400@ewa.org.rs
SUMMARY:2D animacija - dajte novu dimenziju idejama
DESCRIPTION:2D animacija – Upoznajte digitalne animacione alate. Dajte novu dimenziju idejama.\nPokret u dvodimenzionalnom prostoru. Karakteri\, storyboard i pozadine u kretanju.
URL:https://ewa.org.rs/event/2d-animacija-dajte-novu-dimenziju-idejama/
LOCATION:Poslovni i inovativni centar Bački Petrovac
ATTACH;FMTTYPE=image/jpeg:https://ewa.org.rs/wp-content/uploads/2025/02/2D-anim-300x300-1.jpg
END:VEVENT
BEGIN:VEVENT
DTSTART;TZID=Europe/Belgrade:20190509T170000
DTEND;TZID=Europe/Belgrade:20190509T180000
DTSTAMP:20260421T100202
CREATED:20250214T211955Z
LAST-MODIFIED:20250214T212344Z
UID:32936-1557421200-1557424800@ewa.org.rs
SUMMARY:Online Marketing
DESCRIPTION:Google AdWords\, Google AdSense\, Facebook Business\, Instagram for Business\, Business Viber …. \nSaznajte više o mogućnostima online marketinga i načinu korišćenja društvenih medija i digitalne analitike za uspešno plasiranje Vašeg poslovanja.
URL:https://ewa.org.rs/event/online-marketing/
LOCATION:Poslovni i inovativni centar Bački Petrovac
ATTACH;FMTTYPE=image/jpeg:https://ewa.org.rs/wp-content/uploads/2025/02/DigitalMarketing-300x300-1.jpg
END:VEVENT
BEGIN:VEVENT
DTSTART;TZID=Europe/Belgrade:20190425T080000
DTEND;TZID=Europe/Belgrade:20190425T170000
DTSTAMP:20260421T100202
CREATED:20250214T211821Z
LAST-MODIFIED:20250214T211821Z
UID:32932-1556179200-1556211600@ewa.org.rs
SUMMARY:Kompletan SEO - Hajde da se rangiramo!
DESCRIPTION:SEO označava Search Engine Optimization\, što je praksa povećanja količine i kvaliteta saobraćaja na vašoj veb stranici.\nŽelite da se okrenete SEO-u\, ali se plašite tehničkih termina i složenih koncepata? \nOvaj seminar vas vodi kroz sve što vam je potrebno da biste počeli sa pozitivnim rangiranjem na Google.
URL:https://ewa.org.rs/event/kompletan-seo-hajde-da-se-rangiramo/
LOCATION:Poslovni i inovativni centar Bački Petrovac
ATTACH;FMTTYPE=image/jpeg:https://ewa.org.rs/wp-content/uploads/2025/02/search-engine-optimization-4111000_1280-300x300-1.jpg
END:VEVENT
BEGIN:VEVENT
DTSTART;TZID=Europe/Belgrade:20190411T170000
DTEND;TZID=Europe/Belgrade:20190411T180000
DTSTAMP:20260421T100202
CREATED:20250214T202645Z
LAST-MODIFIED:20250214T203551Z
UID:32908-1555002000-1555005600@ewa.org.rs
SUMMARY:WordPress III
DESCRIPTION:U nastavku detaljnije o Online prodavnici\, višejezičkom okruženju\, kontakt formama\, bezbednosti sajta…
URL:https://ewa.org.rs/event/wordpress-iii/
LOCATION:Poslovni i inovativni centar Bački Petrovac
ATTACH;FMTTYPE=image/jpeg:https://ewa.org.rs/wp-content/uploads/2025/02/Online-prodavnica-300x300-1.jpg
END:VEVENT
BEGIN:VEVENT
DTSTART;TZID=Europe/Belgrade:20190328T170000
DTEND;TZID=Europe/Belgrade:20190328T180000
DTSTAMP:20260421T100202
CREATED:20250214T203348Z
LAST-MODIFIED:20250214T203348Z
UID:32927-1553792400-1553796000@ewa.org.rs
SUMMARY:Wordpress II deo
DESCRIPTION:U okviru Škole za dizajn i internet marketing nastavljamo da se upoznajemo sa C panelom i ostalim alatima u okviru WordPress-a. \nPredavanje je besplatno. Registracija je obavezna na linku:\nhttps://goo.gl/forms/LJubkWfVtlRsuuAI3
URL:https://ewa.org.rs/event/wordpress-ii-deo/
LOCATION:Poslovni i inovativni centar Bački Petrovac
ATTACH;FMTTYPE=image/jpeg:https://ewa.org.rs/wp-content/uploads/2025/02/53602056_2306630862991869_3044417916284960768_o-300x300-1.jpg
END:VEVENT
BEGIN:VEVENT
DTSTART;TZID=Europe/Belgrade:20190322T170000
DTEND;TZID=Europe/Belgrade:20190322T180000
DTSTAMP:20260421T100202
CREATED:20250214T203143Z
LAST-MODIFIED:20250214T203705Z
UID:32921-1553274000-1553277600@ewa.org.rs
SUMMARY:Zbog čega deca odrastaju u frustrirane ljude? – predavanje dr Ranka Rajovića
DESCRIPTION:Roditellji žele da imaju inteligentnu decu. Medjutim\, da li su spremni da promene\npristup u vaspitavanju svoje dece? Dešava se da: \n\npreviše zaštićuju svoju decu;\nteže razumeju da je i dosada dobar faktor razvoja deteta;\nimaju problem kako dete odvići od videoigara;\nimaju problem da prepoznaju šta je ključno za pravilan razvoj deteta;\n\nNa ove i druge teme kao i o ulogama roditelja\, škole i okoline kad govorimo o\nvaspitanju i obrazovanju dece\, pričaćemo sa svetski poznatim stručnjakom i\njednim od najvećih autoriteta na ovim prostorijama sa dr Rankom Rajovićem.\nPredavanje je aktuelno s obzirom na situaciju koja je više nego alarmantna.\nPrimera radi\, naša deca se ne snalaze kada je reč o povezivanju informacija;\nposlednja su u Evropi što se tiče funkcionalnog znanja; 80% dece ima problem\nsa motorikom\, artikulacijom i izražavanjem\, koncentracijom….
URL:https://ewa.org.rs/event/zbog-cega-deca-odrastaju-u-frustrirane-ljude-predavanje-dr-ranka-rajovica/
LOCATION:Poslovni i inovativni centar Bački Petrovac
ATTACH;FMTTYPE=image/jpeg:https://ewa.org.rs/wp-content/uploads/2025/02/54434081_2309499139371708_7758455629601046528_o-300x300-1.jpg
END:VEVENT
BEGIN:VEVENT
DTSTART;TZID=Europe/Belgrade:20190314T170000
DTEND;TZID=Europe/Belgrade:20190314T180000
DTSTAMP:20260421T100202
CREATED:20250214T203013Z
LAST-MODIFIED:20250214T203506Z
UID:32916-1552582800-1552586400@ewa.org.rs
SUMMARY:Kako da napraviš svoj prvi veb-sajt u Wordpress-u?
DESCRIPTION:@ “Izrada veb-sajtova u WordPressu od A do Š” naredna je lekcija u okviru – Škole za dizajn & internet marketing – Poslovnog i inovativnog centra u Bačkom Petrovcu; \n@ U okviru ovog i sledećih predavanja upoznaćemo vas sa svim fazama kreiranja veb-stranice u WordPressu od momenta kako zakupiti domen\, hosting\, kako ući u C-panel\, kako savladati osnovna podešavanja i ostale stvari; \n@ Cool? Ulaz je besplatan pa iskoristi priliku i prijavi se putem mejla: office@picbackipetrovac.com
URL:https://ewa.org.rs/event/kako-da-napravis-svoj-prvi-veb-sajt-u-wordpress-u/
ATTACH;FMTTYPE=image/jpeg:https://ewa.org.rs/wp-content/uploads/2025/02/54230680_2301696240151998_8723834728643297280_o-300x300-1.jpg
END:VEVENT
END:VCALENDAR